Workbook

Sheet 发售登记表
A1: 发售登记表
A2: 项目编号 | B2: CITCC-XX | V2: =#REF! -> #REF!
A3: 项目名称 | B3: XX项目
A4: 购买单位信息
A5: 单位名称 | B5: XXX公司
A6: 经办人 | B6: XXX | D6: 联系电话 | E6: 1XXXXXXXXXX
A7: 电子邮件 | B7: XXX@XXX.XX | D7: 身份证号 | E7: XXXXXXXXXXX
A8: 通信地址 | B8: 填写具体办公通信地址（用于相关文件邮寄）
A9: 文件购买情况
A10: 报名标包 | B10: 填写具体标包号，如不涉及则填写“/”
A11: 电汇账户及汇款金额 | B11: 金额 | C11: 汇款账户名称及账号 | E11: 缴纳时间
B12: XX元 | C12: XXXXXXXXXXX | E12: XX年XX月XX日
A13: 开票信息 | B13: 纳税人识别号 | C13: XXXXXXXXXXX
B14: 注册地址 | C14: XXXXXXXXXXX
B15: 电话 | C15: XXXXXXXXXXX
B16: 开户银行 | C16: XXXXXXXXXXX
B17: 银行账号 | C17: XXXXXXXXXXX
B18: 银行联行号 | C18: XXXXXXXXXXX
A19: 日 期 | B19: XXXX-XX-XX | D19: 经办人 签名 | E19: （打印后经办人手签）
A20: 备 注
A28: 按照红字部分示例进行填写，请同时提供可编辑版（excel文件）和签字后的扫描件。

Sheet 信息汇总（无需填写）
A1: 序号 | B1: 招标编号（同资格预审编号） | C1: 项目全称 | D1: 潜在投标人 | E1: 联系人 | F1: 手机号 | G1: 邮箱 | H1: 身份证号 | I1: 文件款电汇或现金缴纳日期 | J1: 文件购买缴费方式（现金、电汇） | K1: 领取或发送招标文件日期 | L1: 电汇账户及汇款金额 | M1: 报名标包 | N1: 参加标包 | O1: 获取招标文件方式 | P1: 应收文件款金额 | Q1: 实收文件款金额 | R1: 纳税人识别号 | S1: 单位地址 | T1: 单位电话 | U1: 开户行名称 | V1: 开户行账号 | W1: 联行号 | X1: 发票接收人 | Y1: 发票接收人手机 | Z1: 发票接收邮箱 | AA1: 发票接收地址 | AB1: 备注
A2: 1 | B2: =发售登记表!B2 -> CITCC-XX | C2: =发售登记表!B3 -> XX项目 | D2: =发售登记表!B5 -> XXX公司 | E2: =发售登记表!B6 -> XXX | F2: =发售登记表!E6 -> 1XXXXXXXXXX | G2: =发售登记表!B7 -> XXX@XXX.XX | H2: =发售登记表!E7 -> XXXXXXXXXXX | I2: =发售登记表!E12 -> XX年XX月XX日 | L2: =发售登记表!C12 -> XXXXXXXXXXX | M2: =发售登记表!B10 -> 填写具体标包号，如不涉及则填写“/” | P2: =发售登记表!B12 -> XX元 | Q2: =发售登记表!B12 -> XX元 | R2: =发售登记表!C13 -> XXXXXXXXXXX | S2: =发售登记表!C14 -> XXXXXXXXXXX | T2: =发售登记表!C15 -> XXXXXXXXXXX | U2: =发售登记表!C16 -> XXXXXXXXXXX | V2: =发售登记表!C17 -> XXXXXXXXXXX | W2: =发售登记表!C18 -> XXXXXXXXXXX | X2: =发售登记表!B6 -> XXX | Y2: =发售登记表!E6 -> 1XXXXXXXXXX | Z2: =发售登记表!B7 -> XXX@XXX.XX | AA2: =发售登记表!B8 -> 填写具体办公通信地址（用于相关文件邮寄）
