Workbook
Name IT产品及服务: '品类（勿删）'!$D$2:$D$3
Name IT服务: '品类（勿删）'!$P$2:$P$6
Name IT软、硬件产品: '品类（勿删）'!$Q$2:$Q$7
Name 办公家具: '品类（勿删）'!$V$2:$V$3
Name 办公设备及耗材: '品类（勿删）'!$M$2:$M$4
Name 办公设施设备租赁: '品类（勿删）'!$M$4
Name 办公室快递、物流服务: '品类（勿删）'!$L$4
Name 保险运营服务: '品类（勿删）'!$K$2:$K$5
Name 不动产工程: '品类（勿删）'!$U$2:$U$8
Name 不动产项目: '品类（勿删）'!$F$2:$F$4
Name 核保管理相关服务: '品类（勿删）'!$K$4
Name 后勤服务: '品类（勿删）'!$L$2:$L$5
Name 货物及租赁: '品类（勿删）'!$C$2:$C$4
Name 健康管理: '品类（勿删）'!$E$2:$E$4
Name 健康管理产品: '品类（勿删）'!$R$2:$R$6
Name 就医服务: '品类（勿删）'!$T$2:$T$4
Name 其他不动产服务: '品类（勿删）'!$W$2:$W$3
Name 市场、运营、后勤服务: '品类（勿删）'!$B$2:$B$5
Name 推广营销类服务: '品类（勿删）'!$I$2:$I$5
Name 宣传、福利品: '品类（勿删）'!$O$2:$O$3
Name 医疗咨询服务: '品类（勿删）'!$S$2:$S$3
Name 印刷品: '品类（勿删）'!$N$2
Name 专业服务: '品类（勿删）'!$J$2:$J$9

Sheet 供应商资信审查登记表
A1: 供应商信息登记表
A2: 登记人姓名 | D2: 登记人联系方式
A3: 操作分类 | B3: 征集 | D3: 提交时间
A5: 公司基本信息
A6: 公司名称 | D6: 统—社会信用代码证号
A7: 官方网站 | D7: 联系地址
A8: 公司简介
A10: 工商登记
A11: 经营状态 | C11: 成立时间 | E11: 经营期限
A12: 注册资本 | C12: 企业性质 | E12: 注册时间
A13: 法人代表 | C13: 所在地区 | E13: 注册地址
A14: 纳税人身份 | E14: 经营范围
A16: 资质信息
A17: 证书名称 | B17: 资质等级 | D17: 证书编号 | E17: 有效期 （生效日期--截止日期） | F17: 资质证书扫描件
A22: 企业经营管理
A23: 年份 | B23: 总经理/负责人 | C23: 是否上市 | D23: 企业年报是否完成更新 | E23: 缴纳社保人数 | F23: 社保缴纳证明
A24: 2025年 | C24: 请选择… | D24: 请选择… | F24: 请提供扫描件
A26: 财务状况
A27: 评估年度 | B27: 财务指标 | F27: 相关财务报告(盖公章)
A28: 2024 | B28: 营业收入 | D28: 毛利润(营业收入-营业成本) | F28: （请提交附件）
B29: 资产总额 | D29: 负债总额
B30: 流动资产总额 | D30: 资产负债率(负债总额/资产总额) | E30: =E29/C29 -> #DIV/0!
B31: 流动负债总额 | D31: 流动比率(流动资产额/流动负债额) | E31: =C30/C31 -> #DIV/0!
A32: 2023 | B32: 营业收入 | D32: 毛利润(营业收入-营业成本) | F32: （请提交附件）
B33: 资产总额 | D33: 负债总额
B34: 流动资产总额 | D34: 资产负债率(负债总额/资产总额) | E34: =E33/C33 -> #DIV/0!
B35: 流动负债总额 | D35: 流动比率(流动资产额/流动负债额) | E35: =C34/C35 -> #DIV/0!
A36: 2022 | B36: 营业收入 | D36: 毛利润(营业收入-营业成本) | F36: （请提交附件）
B37: 资产总额 | D37: 负债总额
B38: 流动资产总额 | D38: 资产负债率(负债总额/资产总额) | E38: =E37/C37 -> #DIV/0!
B39: 流动负债总额 | D39: 流动比率(流动资产额/流动负债额) | E39: =C38/C39 -> #DIV/0!
A41: 不良记录反馈
A42: 反馈时间 | B42: 近三年不良纳税 | C42: 近三年法律诉讼 | D42: 近三年行政处罚 | E42: 近三年违规通报 | F42: 相关说明文档(盖公章)
A43: 2025年 | B43: 请选择… | C43: 请选择… | D43: 请选择… | E43: 请选择… | F43: （请提交信用中国报告附件）
A46: 业绩说明（近三年合作案例）
A47: 合作单位 | B47: 项目描述 | C47: 合同金额(万元) | D47: 合同签订时间 | E47: 合同首页扫描 | F47: 合同末页扫描
E48: （请提交附件） | F48: （请提交附件）
E49: （请提交附件） | F49: （请提交附件）
E50: （请提交附件） | F50: （请提交附件）

Sheet 入库及认证申请
B1: 招商信诺-供应商等级认证申请表 | D1: 认证编号： | E1: RZ2024-XXX | F1: 版本4.0 | G1: 45518
B2: 一、等级认证评估结果
B3: 供应商名称 | D3: 一级目录 | E3: 不动产项目
D4: 二级目录 | E4: 不动产工程
D5: 三级目录 | E5: 造价咨询、监理服务
B6: 引入部门 | D6: 公司/机构近一年订单额
B7: 引入渠道 | D7: 公司/机构已有供应商数
B8: 最早合作记录 | D8: 入库审查结果* | E8: =IF(AND(D21="全部符合要求",D39="全部符合要求"),"有效入库","有条件入库") -> 有条件入库
B9: 审查人1 | D9: 基础得分 | E9: {=IFERROR(_xlfn.IFS(E8="有效入库",90,E8="有条件入库",75),0)} -> 75
B10: 审查人2 | D10: 综合评分* | E10: =IF(D47="得分清零",0,(E9+SUM(D43:D46))) -> 75
B11: 复核人 | D11: 供应商等级* | E11: {=_xlfn.IFS(E10>80,"A级",AND(E10>65,E10<=80),"B级",AND(E10>0,E10<=65),"C级",E10=0,"D级")} -> B级
B13: 二、入库资格审查
B15: 基本资格条件审查项目 | D15: 审查情况
B16: 具有独立承担民事责任的能力
B17: 具有健全的财务会计制度
B18: 具有良好的商业信誉和且近三年没有重大违法记录
B19: 有依法缴纳税收和社会保障资金的良好记录
B20: 具有履行合同所必须的设备和专业技术能力
B21: 基本资格条件审查结果
B23: 特定资格条件审查项目 | C23: 准入标准 | D23: 审查情况 | E23: 是否满足要求
B24: 成立年限 | C24: =INDEX(OFFSET(集采供应商入库特定资格条件!$H:$H,0,ROW(B24)-24),MATCH($E$5,集采供应商入库特定资格条件!$D:$D,0)) -> ≥3年 | D24: =供应商资信审查登记表!D11 -> 0
B25: 注册资本 | C25: =INDEX(OFFSET(集采供应商入库特定资格条件!$H:$H,0,1),MATCH($E$5,集采供应商入库特定资格条件!$D:$D,0)) -> ≥200万 | D25: =供应商资信审查登记表!B12 -> 0
B26: 近6个月缴纳社保人数 | C26: =INDEX(OFFSET(集采供应商入库特定资格条件!$H:$H,0,2),MATCH($E$5,集采供应商入库特定资格条件!$D:$D,0)) -> ≥10人 | D26: =供应商资信审查登记表!E24 -> 0
B27: 资质认证/许可 | C27: =INDEX(OFFSET(集采供应商入库特定资格条件!$H:$H,0,3),MATCH($E$5,集采供应商入库特定资格条件!$D:$D,0)) -> 0
B28: 近3年毛利润 | C28: =INDEX(OFFSET(集采供应商入库特定资格条件!$H:$H,0,5),MATCH($E$5,集采供应商入库特定资格条件!$D:$D,0)) -> >0 | D28: =供应商资信审查登记表!E28 -> 0
C29: =INDEX(OFFSET(集采供应商入库特定资格条件!$H:$H,0,ROW(B29)-24),MATCH($E$5,集采供应商入库特定资格条件!$D:$D,0)) -> >0 | D29: =供应商资信审查登记表!E32 -> 0
C30: =INDEX(OFFSET(集采供应商入库特定资格条件!$H:$H,0,ROW(B30)-24),MATCH($E$5,集采供应商入库特定资格条件!$D:$D,0)) -> 1 | D30: =供应商资信审查登记表!E36 -> 0
B31: 近3年资产负债率 | C31: =INDEX(OFFSET(集采供应商入库特定资格条件!$H:$H,0,4),MATCH($E$5,集采供应商入库特定资格条件!$D:$D,0)) -> 0.8 | D31: =供应商资信审查登记表!E30 -> #DIV/0!
C32: =INDEX(OFFSET(集采供应商入库特定资格条件!$H:$H,0,ROW(B32)-24),MATCH($E$5,集采供应商入库特定资格条件!$D:$D,0)) -> 0 | D32: =供应商资信审查登记表!E34 -> #DIV/0!
C33: =INDEX(OFFSET(集采供应商入库特定资格条件!$H:$H,0,ROW(B33)-24),MATCH($E$5,集采供应商入库特定资格条件!$D:$D,0)) -> 0 | D33: =供应商资信审查登记表!E38 -> #DIV/0!
B34: 近3年流动比 | C34: =INDEX(OFFSET(集采供应商入库特定资格条件!$H:$H,0,6),MATCH($E$5,集采供应商入库特定资格条件!$D:$D,0)) -> 1 | D34: =供应商资信审查登记表!E31 -> #DIV/0!
C35: =INDEX(OFFSET(集采供应商入库特定资格条件!$H:$H,0,ROW(B35)-24),MATCH($E$5,集采供应商入库特定资格条件!$D:$D,0)) -> 0 | D35: =供应商资信审查登记表!E35 -> #DIV/0!
C36: =INDEX(OFFSET(集采供应商入库特定资格条件!$H:$H,0,ROW(B36)-24),MATCH($E$5,集采供应商入库特定资格条件!$D:$D,0)) -> 0 | D36: =供应商资信审查登记表!E39 -> #DIV/0!
B37: 近3年行业案例 | C37: =INDEX(OFFSET(集采供应商入库特定资格条件!$H:$H,0,7),MATCH($E$5,集采供应商入库特定资格条件!$D:$D,0)) -> 近三年3个及以上相关金融行业案例
B38: 其他要求
B39: 特定资格条件审查结果* | D39: {=IFERROR(_xlfn.IFS(COUNTIF(E24:E38,"满足要求")=15,"全部符合要求",COUNTIF(E24:E38,"满足要求")=0,"全部不符合要求"),"部分符合要求")} -> 全部不符合要求
B41: 三、近一年合作情况
B42: 评估项目 | C42: 达成情况 | D42: 分值* | E42: 得分标准*
B43: 履约评价得分（同品类） | D43: {=IFERROR(_xlfn.IFS(C43>=4.25,5,AND(C43>=3.5,C43<4.25),0,AND(C43>=3,C43<3.5),-5,AND(C43<3,C43>0),-10),0)} -> 0 | E43: ≥4.25 得5分; ＜3.5 扣5至10分
B44: 近一年参与项目数（全品类） | D44: {=IFERROR(_xlfn.IFS(AND(C44>=5,C45=0),-10,AND(OR(C44=3,C44=4),C45=0),-5,AND(C44>=3,AND(C45>0,C45<0.25)),-5),0)} -> 0 | E44: 参与项目数≥3且，中标低扣5分，极低扣10分 详见“计分规则”表
...

Sheet 集采供应商入库特定资格条件
B1: 集采供应商入库特定资格条件
B2: 版本号 | C2: V3.0 | D2: 登记要求：1.按版本号完整保存修订记录。2.变更登记流程：品类经理邮件通知内控组，内控组录入表格，另存新版本；3变更填写方式：于变更项插入备注，参考格式：2022/8/1版本 为5人，同时变更G列修订时间 。
B3: 一级品类 | C3: 二级品类 | D3: 三级品类 | E3: 品类定位 | F3: 品类经理 | G3: 修订时间 | H3: 成立时间 | I3: 注册资本 | J3: 缴纳社保人数 | K3: 资质认证/许可 | L3: 资产负债率（≤) | M3: 毛利润 | N3: 流动比(≥） | O3: 行业案例
B4: 市场、运营、 后勤服务 | C4: 推广营销类服务 | D4: 获客营销推广 | E4: 战略 | F4: Steven Li | G4: 45275 | H4: ≥3年 | I4: ≥500万 | J4: ≥30人 | L4: 0.75 | M4: >0 | N4: 1.2 | O4: 近三年1个及以上相关金融行业案例
D5: 品牌及市场推广 | E5: 杠杆 | F5: Steven Li | G5: 45275 | H5: ≥3年 | I5: ≥1000万 | J5: ≥30人 | L5: 0.75 | M5: >0 | N5: 1.2 | O5: 近三年1个及以上相关金融行业案例
D6: 创意设计 | E6: 非关键 | F6: Steven Li | G6: 45275 | H6: ≥3年 | I6: ≥100万 | J6: ≥5人 | L6: 0.75 | M6: >0 | N6: 1.2 | O6: 近三年1个及以上相关金融行业案例
D7: 活动策划及组织 | E7: 杠杆 | F7: Steven Li | G7: 45275 | H7: ≥3年 | I7: ≥100万 | J7: ≥5人 | L7: 0.95 | M7: >0 | N7: 1 | O7: 近三年1个及以上相关金融行业案例
C8: 专业服务 | D8: 财务咨询、培训等 | E8: 非关键 | F8: Jason Zhu | G8: 45275 | H8: ≥3年 | I8: ≥500万 | J8: ≥50人 | L8: 0.8 | M8: >0 | N8: 1 | O8: 近三年2个及以上相关金融行业案例
D9: 法律咨询、培训、诉讼等 | E9: 瓶颈 | F9: Jason Zhu | G9: 45275 | H9: ≥3年 | I9: ≥50万 | J9: ≥20人 | L9: 0.9 | M9: >0 | N9: 1 | O9: 近三年2个及以上相关金融行业案例
D10: 招聘及人事服务 | E10: 杠杆 | F10: Jason Zhu | G10: 45275 | H10: ≥3年 | I10: ≥100万 | J10: ≥50人 | L10: 0.85 | M10: >0 | N10: 1 | O10: 近三年2个及以上相关金融行业案例
D11: 员工培训服务 | E11: 非关键 | F11: Jason Zhu | G11: 45275 | H11: ≥3年 | I11: ≥100万 | J11: ≥20人 | L11: 0.7 | M11: >0 | N11: 1.2 | O11: 近三年2个及以上相关金融行业案例
D12: 审计服务 | E12: 非关键 | F12: Jason Zhu | G12: 45275 | H12: ≥3年 | I12: ≥2500万 | J12: ≥500人 | L12: 0.8 | M12: >0 | N12: 1.2 | O12: 近三年2个及以上相关金融行业案例
D13: 企业保险 | E13: 非关键 | F13: Jason Zhu | G13: 45275 | H13: ≥3年 | I13: ≥500万 | J13: ≥10人 | L13: 0.8 | M13: >0 | N13: 1.2 | O13: 近三年2个及以上相关金融行业案例
D14: 紧急救援类服务 | E14: 瓶颈 | F14: Jason Zhu | G14: 45275 | H14: ≥3年 | I14: ≥500万 | J14: ≥10人 | L14: 0.85 | M14: >0 | N14: 1.2 | O14: 近三年2个及以上相关金融行业案例
D15: 其他调研咨询服务 | E15: 非关键 | F15: Jason Zhu | G15: 45275 | H15: ≥3年 | I15: ≥500万 | J15: ≥20人 | L15: 0.75 | M15: >0 | N15: 1 | O15: 近三年2个及以上相关金融行业案例
C16: 保险运营服务 | D16: 保单打印、投递等管理服务 | E16: 战略 | F16: Ivan Chen | G16: 45275 | H16: ≥3年 | I16: ≥1000万 | J16: ≥50人 | L16: 0.75 | M16: >0 | N16: 1 | O16: 近三年1个及以上相关金融行业案例
D17: 核保管理相关服务 | E17: 杠杆 | F17: Ivan Chen | G17: 45275 | H17: ≥3年 | I17: ≥100万 | J17: ≥5人 | L17: 0.75 | M17: >0 | N17: 1.2 | O17: 近三年1个及以上相关金融行业案例
D18: 理赔管理相关服务 | E18: 杠杆 | F18: Ivan Chen | G18: 45275 | H18: ≥3年 | I18: ≥500万 | J18: ≥50人 | L18: 0.6 | M18: >0 | N18: 1.2 | O18: 近三年1个及以上相关金融行业案例
D19: 客服管理相关服务 | E19: 杠杆 | F19: Ivan Chen | G19: 45275 | H19: ≥3年 | I19: ≥100万 | J19: ≥5人 | L19: 0.8 | M19: >0 | N19: 1 | O19: 近三年1个及以上相关金融行业案例
C20: 后勤服务 | D20: 职场环境、安保、设施设备管理服务 | E20: 非关键 | F20: Jason Zhu | G20: 45275 | H20: ≥3年 | I20: ≥500万 | J20: ≥5人 | L20: 0.75 | M20: >0 | N20: 1.2 | O20: 近三年1个及以上相关项目案例
D21: 办公室快递、物流服务 | E21: 非关键 | F21: Jason Zhu | G21: 45275 | H21: ≥3年 | I21: ≥500万 | J21: ≥500人 | L21: 0.95 | M21: >0 | N21: 0.5 | O21: 近三年2个及以上相关金融行业案例
D22: 商旅、出行、车辆租赁等交通服务 | E22: 非关键 | F22: Jason Zhu | G22: 45275 | H22: ≥3年 | I22: ≥100万 | J22: ≥5人 | L22: 0.95 | M22: >0 | N22: 0.5 | O22: 近三年2个及以上相关行业案例
D23: 其他综合后勤服务 | E23: 非关键 | F23: Jason Zhu | G23: 45275 | H23: ≥3年 | I23: ≥100万 | J23: ≥30人 | L23: 0.95 | M23: >0 | N23: 0.5 | O23: 近三年2个及以上相关金融行业案例
B24: 货物及租赁 | C24: 办公设备及耗材 | D24: 办公设施设备及维保 | E24: 非关键 | F24: Jason Zhu | G24: 45275 | H24: ≥3年 | I24: ≥10万 | J24: ≥10人 | L24: 0.8 | M24: >0 | N24: 1 | O24: 近三年2个及以上相关金融行业案例
D25: 办公设施设备租赁 | E25: 非关键 | F25: Jason Zhu | G25: 45275 | H25: ≥3年 | I25: ≥10万 | J25: ≥10人 | L25: 0.8 | M25: >0 | N25: 1 | O25: 近三年2个及以上相关金融行业案例
D26: 办公用品及耗材 | E26: 非关键 | F26: Jason Zhu | G26: 45275 | H26: ≥3年 | I26: ≥10万 | J26: ≥10人 | L26: 0.95 | M26: >0 | N26: 1 | O26: 近三年2个及以上相关金融行业案例
C27: 印刷品 | D27: 印刷品 | E27: 杠杆 | F27: Jason Zhu | G27: 45275 | H27: ≥3年 | I27: ≥300万 | J27: ≥30人 | K27: 《印刷经营许可证》、《ISO质量管理体系认证》 | L27: 0.85 | M27: >0 | N27: 1 | O27: 近三年1个及以上相关项目案例
C28: 宣传、福利品 | D28: 品牌定制宣传或福利品 | E28: 杠杆 | F28: Jason Zhu | G28: 45275 | H28: ≥3年 | I28: ≥300万 | J28: ≥10人 | L28: 0.9 | M28: >0 | N28: 1 | O28: 近三年2个及以上相关项目案例
D29: 非定制宣传或福利品 | E29: 杠杆 | F29: Jason Zhu | G29: 45275 | H29: ≥3年 | I29: ≥300万 | J29: ≥5人 | L29: 0.9 | M29: >0 | N29: 0.5 | O29: 近三年2个及以上相关项目案例
B30: IT产品及服务 | C30: IT服务 | D30: 数据中心运维、租赁等服务 | E30: 杠杆 | F30: Jason Zhu | G30: 45275 | H30: ≥5年 | I30: ≥2500万 | J30: ≥250人 | L30: 0.8 | M30: >0 | N30: 1 | O30: 近三年2个及以上相关金融行业案例
D31: 人力外包服务 | E31: 战略 | F31: Ivan Chen | G31: 45275 | H31: ≥3年 | I31: ≥500万 | J31: ≥500人 | L31: 0.7 | M31: >0 | N31: 1.2 | O31: 近三年3个及以上相关金融行业案例
D32: 软件开发服务 | E32: 战略 | F32: Ivan Chen | G32: 45275 | H32: ≥3年 | I32: ≥1000万 | J32: ≥50人 | L32: 0.75 | M32: >0 | N32: 1.2 | O32: 近三年3个及以上相关金融行业案例
D33: 软件、硬件、系统维保服务 | E33: 瓶颈 | F33: Ivan Chen | G33: 45275 | H33: ≥3年 | I33: ≥1500万 | J33: ≥30人 | L33: 0.7 | M33: >0 | N33: 1.2 | O33: 近三年3个及以上相关金融行业案例
D34: 网络、通讯租赁服务 | E34: 战略 | F34: Jason Zhu | G34: 45275 | H34: ≥5年 | I34: ≥1000万 | J34: ≥50人 | K34: 国家颁发增值电信经营许可 | L34: 0.85 | M34: >0 | N34: 0.5 | O34: 近三年2个及以上相关金融行业案例
C35: IT软、硬件产品 | D35: 软件许可 | E35: 瓶颈 | F35: Jason Zhu | G35: 45275 | H35: ≥3年 | I35: ≥1500万 | J35: ≥20人 | L35: 0.85 | M35: >0 | N35: 1.2 | O35: 近三年2个及以上相关金融行业案例
D36: 服务器、存储等相关设备 | E36: 瓶颈 | F36: Jason Zhu | G36: 45275 | H36: ≥3年 | I36: ≥3000万 | J36: ≥50人 | L36: 0.75 | M36: >0 | N36: 1.2 | O36: 近三年2个及以上相关金融行业案例
D37: 网络、通讯、交换机等相关设备 | E37: 瓶颈 | F37: Jason Zhu | G37: 45275 | H37: ≥3年 | I37: ≥1500万 | J37: ≥50人 | L37: 0.8 | M37: >0 | N37: 1.2 | O37: 近三年2个及以上相关金融行业案例
D38: 安全管理相关设备 | E38: 瓶颈 | F38: Jason Zhu | G38: 45275 | H38: ≥3年 | I38: ≥1000万 | J38: ≥50人 | L38: 0.85 | M38: >0 | N38: 1.2 | O38: 近三年2个及以上相关金融行业案例
D39: 办公电脑及外围产品 | E39: 杠杆 | F39: Jason Zhu | G39: 45275 | H39: ≥3年 | I39: ≥2000万 | J39: ≥5人 | L39: 0.85 | M39: >0 | N39: 1 | O39: 近三年2个及以上相关案例
D40: 其他电子耗材 | E40: 非关键 | F40: Jason Zhu | G40: 45275 | H40: ≥3年 | I40: ≥500万 | J40: ≥20人 | L40: 0.7 | M40: >0 | N40: 1.2 | O40: 近三年2个及以上相关案例
...

Sheet 计分规则
C3: 供应商等级计分规则 | M3: 供应商中标率区间说明
D7: 供应商等级 | E7: A级 | F7: B级 | G7: C级 | H7: D级 | N7: 中标率低【0-25%)；中标率极低（黄色部分） | T7: 中标率较高 [67%-83%)
D8: 分值 | E8: > 80 | F8: 66~80 | G8: 1~65 | H8: 0 | N8: 参与数 | O8: 中标数 | P8: 中标率 | Q8: 中标数 | R8: 中标率 | T8: 参与数 | U8: 中标数 | V8: 中标率 | W8: 中标数 | X8: 中标率
N9: 3 | O9: 0 | P9: =O9/N9 -> 0 | Q9: 0 | R9: =Q9/N9 -> 0 | T9: 3 | U9: 2 | V9: =U9/T9 -> 0.66666667 | W9: 2 | X9: =W9/T9 -> 0.66666667
D10: 等级评估项目 | G10: 得分 | N10: 4 | O10: 0 | P10: =O10/N10 -> 0 | Q10: 0 | R10: =Q10/N10 -> 0 | T10: 4 | U10: 3 | V10: =U10/T10 -> 0.75 | W10: 3 | X10: =W10/T10 -> 0.75
D11: 入库供应商 | G11: 90 | N11: 5 | O11: 0 | P11: =O11/N11 -> 0 | Q11: 1 | R11: =Q11/N11 -> 0.2 | T11: 5 | U11: 4 | V11: =U11/T11 -> 0.8 | W11: 4 | X11: =W11/T11 -> 0.8
D12: 有条件入库供应商 | G12: 75 | N12: 6 | O12: 0 | P12: =O12/N12 -> 0 | Q12: 1 | R12: =Q12/N12 -> 0.16666667 | T12: 6 | U12: 4 | V12: =U12/T12 -> 0.66666667 | W12: 4 | X12: =W12/T12 -> 0.66666667
D13: 年审失效的入库供应商 | G13: 60 | N13: 7 | O13: 0 | P13: =O13/N13 -> 0 | Q13: 1 | R13: =Q13/N13 -> 0.14285714 | T13: 7 | U13: 5 | V13: =U13/T13 -> 0.71428571 | W13: 5 | X13: =W13/T13 -> 0.71428571
D14: 入库失败供应商 | N14: 8 | O14: 0 | P14: =O14/N14 -> 0 | Q14: 1 | R14: =Q14/N14 -> 0.125 | T14: 8 | U14: 6 | V14: =U14/T14 -> 0.75 | W14: 6 | X14: =W14/T14 -> 0.75
D15: 一般供应商 | N15: 9 | O15: 0 | P15: =O15/N15 -> 0 | Q15: 2 | R15: =Q15/N15 -> 0.22222222 | T15: 9 | U15: 6 | V15: =U15/T15 -> 0.66666667 | W15: 7 | X15: =W15/T15 -> 0.77777778
D16: 近1年履约评价得分≥4.25 | G16: 5 | N16: 10 | O16: 0 | P16: =O16/N16 -> 0 | Q16: 2 | R16: =Q16/N16 -> 0.2 | T16: 10 | U16: 7 | V16: =U16/T16 -> 0.7 | W16: 8 | X16: =W16/T16 -> 0.8
D17: 3.5≤近1年履约评价得分＜4.25 | G17: 0
D18: 3≤近1年履约评价得分＜3.5 | G18: -5 | N18: 中标率中等 [25-67%) | T18: 中标率极高 [83%-100%)
D19: 近1年履约评价得分＜3 | G19: -10 | N19: 参与数 | O19: 中标数 | P19: 中标率 | Q19: 中标数 | R19: 中标率 | T19: 参与数 | U19: 中标数 | V19: 中标率 | W19: 中标数 | X19: 中标率
D20: 参与项目≥5，中标率=0 | G20: -10 | N20: 3 | O20: 1 | P20: =O20/N20 -> 0.33333333 | Q20: 1 | R20: =Q20/N20 -> 0.33333333 | T20: 3 | U20: 3 | V20: =U20/T20 -> 1 | W20: 3 | X20: =W20/T20 -> 1
D21: 参与项目=3或4，中标率=0 | G21: -5 | N21: 4 | O21: 1 | P21: =O21/N21 -> 0.25 | Q21: 2 | R21: =Q21/N21 -> 0.5 | T21: 4 | U21: 4 | V21: =U21/T21 -> 1 | W21: 4 | X21: =W21/T21 -> 1
D22: 参与项目≥3，0<中标率<25% | G22: -5 | N22: 5 | O22: 2 | P22: =O22/N22 -> 0.4 | Q22: 3 | R22: =Q22/N22 -> 0.6 | T22: 5 | U22: 5 | V22: =U22/T22 -> 1 | W22: 5 | X22: =W22/T22 -> 1
D23: 受邀后弃标（每次） | G23: -5 | N23: 6 | O23: 2 | P23: =O23/N23 -> 0.33333333 | Q23: 3 | R23: =Q23/N23 -> 0.5 | T23: 6 | U23: 5 | V23: =U23/T23 -> 0.83333333 | W23: 6 | X23: =W23/T23 -> 1
D24: 供应商处置（清退/禁用） | G24: 清零 | N24: 7 | O24: 2 | P24: =O24/N24 -> 0.28571429 | Q24: 4 | R24: =Q24/N24 -> 0.57142857 | T24: 7 | U24: 6 | V24: =U24/T24 -> 0.85714286 | W24: 7 | X24: =W24/T24 -> 1
N25: 8 | O25: 2 | P25: =O25/N25 -> 0.25 | Q25: 5 | R25: =Q25/N25 -> 0.625 | T25: 8 | U25: 7 | V25: =U25/T25 -> 0.875 | W25: 8 | X25: =W25/T25 -> 1
N26: 9 | O26: 3 | P26: =O26/N26 -> 0.33333333 | Q26: 5 | R26: =Q26/N26 -> 0.55555556 | T26: 9 | U26: 8 | V26: =U26/T26 -> 0.88888889 | W26: 9 | X26: =W26/T26 -> 1
N27: 10 | O27: 3 | P27: =O27/N27 -> 0.3 | Q27: 6 | R27: =Q27/N27 -> 0.6 | T27: 10 | U27: 9 | V27: =U27/T27 -> 0.9 | W27: 10 | X27: =W27/T27 -> 1

Sheet 数据抽取
B1: 认证编号 | C1: 供应商名称 | D1: 采购大类 | E1: 采购中类 | F1: 采购小类 | G1: 基本资格条件审查结果 | H1: 特定资格条件审查结果 | I1: 入库审查结果 | J1: 认证评估得分 | K1: 供应商等级 | L1: 审查人 | M1: 复核人 | N1: 认证时间
B2: =入库及认证申请!E1 -> RZ2024-XXX | C2: =入库及认证申请!C3 -> 0 | D2: =入库及认证申请!E3 -> 不动产项目 | E2: =入库及认证申请!E4 -> 不动产工程 | F2: =入库及认证申请!E5 -> 造价咨询、监理服务 | G2: =入库及认证申请!D21 -> 0 | H2: =入库及认证申请!D39 -> 全部不符合要求 | I2: =入库及认证申请!E8 -> 有条件入库 | J2: =入库及认证申请!E10 -> 75 | K2: =入库及认证申请!E11 -> B级 | L2: =入库及认证申请!C9 -> 0 | M2: =入库及认证申请!C11 -> 0 | N2: =入库及认证申请!C8 -> 0

Sheet 品类（勿删）
A1: 一级分类 | B1: 市场、运营、后勤服务 | C1: 货物及租赁 | D1: IT产品及服务 | E1: 健康管理 | F1: 不动产项目 | H1: 二级分类 | I1: 推广营销类服务 | J1: 专业服务 | K1: 保险运营服务 | L1: 后勤服务 | M1: 办公设备及耗材 | N1: 印刷品 | O1: 宣传、福利品 | P1: IT服务 | Q1: IT软、硬件产品 | R1: 健康管理产品 | S1: 医疗咨询服务 | T1: 就医服务 | U1: 不动产工程 | V1: 办公家具 | W1: 其他不动产服务
A2: 二级分类 | B2: 推广营销类服务 | C2: 办公设备及耗材 | D2: IT服务 | E2: 健康管理产品 | F2: 不动产工程 | H2: 三级分类 | I2: 获客营销推广 | J2: 财务咨询、培训等 | K2: 保单打印、投递等管理服务 | L2: 职场环境、安保、设施设备管理服务 | M2: 办公设施设备及维保 | N2: 印刷品 | O2: 品牌定制宣传或福利品 | P2: 数据中心运维、租赁等服务 | Q2: 软件许可 | R2: 体检预约等服务 | S2: 诊疗咨询服务 | T2: 就医预约、绿通服务 | U2: 装修施工服务 | V2: 系统办公家具 | W2: 职场租赁调研、咨询等服务
B3: 专业服务 | C3: 印刷品 | D3: IT软、硬件产品 | E3: 医疗咨询服务 | F3: 办公家具 | I3: 品牌及市场推广 | J3: 法律咨询、培训、诉讼等 | K3: 核保管理相关服务 | L3: 办公室快递、物流服务 | M3: 办公设施设备租赁 | O3: 非定制宣传或福利品 | P3: 人力外包服务 | Q3: 服务器、存储等相关设备 | R3: 疫苗预约等服务 | S3: 健康咨询服务 | T3: 就医陪疹服务 | U3: 装修设计服务 | V3: 定制类家具 | W3: 职场搬迁、家具拆装、运输等服务
B4: 保险运营服务 | C4: 宣传、福利品 | E4: 就医服务 | F4: 其他不动产服务 | I4: 创意设计 | J4: 招聘及人事服务 | K4: 理赔管理相关服务 | L4: 商旅、出行、车辆租赁等交通服务 | M4: 办公用品及耗材 | P4: 软件开发服务 | Q4: 网络、通讯、交换机等相关设备 | R4: 检测类预约等服务 | T4: 其它就医服务 | U4: 造价咨询、监理服务
B5: 后勤服务 | I5: 活动策划及组织 | J5: 员工培训服务 | K5: 客服管理相关服务 | L5: 其他综合后勤服务 | P5: 软件、硬件、系统维保服务 | Q5: 安全管理相关设备 | R5: 医美、齿科预约等服务 | U5: 安防系统集成、产品、维保等服务
J6: 审计服务 | P6: 网络、通讯租赁服务 | Q6: 办公电脑及外围产品 | R6: 其它健康管理产品预约等服务 | U6: 音频会议系统实施、产品、维保等服务
J7: 企业保险 | Q7: 其他电子耗材 | U7: 弱电系统实施、产品、维保等服务
J8: 紧急救援类服务 | U8: 其他不动产项目工程实施及产品
J9: 其他调研咨询服务
